BEGIN:VCALENDAR
VERSION:2.0
PRODID:-//Alexander Bauer MdL - ECPv6.15.11//NONSGML v1.0//EN
CALSCALE:GREGORIAN
METHOD:PUBLISH
X-WR-CALNAME:Alexander Bauer MdL
X-ORIGINAL-URL:https://bauermdl.de
X-WR-CALDESC:Veranstaltungen für Alexander Bauer MdL
REFRESH-INTERVAL;VALUE=DURATION:PT1H
X-Robots-Tag:noindex
X-PUBLISHED-TTL:PT1H
BEGIN:VTIMEZONE
TZID:Europe/Berlin
BEGIN:DAYLIGHT
TZOFFSETFROM:+0100
TZOFFSETTO:+0200
TZNAME:CEST
DTSTART:20240331T010000
END:DAYLIGHT
BEGIN:STANDARD
TZOFFSETFROM:+0200
TZOFFSETTO:+0100
TZNAME:CET
DTSTART:20241027T010000
END:STANDARD
BEGIN:DAYLIGHT
TZOFFSETFROM:+0100
TZOFFSETTO:+0200
TZNAME:CEST
DTSTART:20250330T010000
END:DAYLIGHT
BEGIN:STANDARD
TZOFFSETFROM:+0200
TZOFFSETTO:+0100
TZNAME:CET
DTSTART:20251026T010000
END:STANDARD
BEGIN:DAYLIGHT
TZOFFSETFROM:+0100
TZOFFSETTO:+0200
TZNAME:CEST
DTSTART:20260329T010000
END:DAYLIGHT
BEGIN:STANDARD
TZOFFSETFROM:+0200
TZOFFSETTO:+0100
TZNAME:CET
DTSTART:20261025T010000
END:STANDARD
BEGIN:DAYLIGHT
TZOFFSETFROM:+0100
TZOFFSETTO:+0200
TZNAME:CEST
DTSTART:20270328T010000
END:DAYLIGHT
BEGIN:STANDARD
TZOFFSETFROM:+0200
TZOFFSETTO:+0100
TZNAME:CET
DTSTART:20271031T010000
END:STANDARD
END:VTIMEZONE
BEGIN:VEVENT
DTSTART;TZID=Europe/Berlin:20260307T090000
DTEND;TZID=Europe/Berlin:20260307T090000
DTSTAMP:20260419T160129
CREATED:20260126T145551Z
LAST-MODIFIED:20260126T145551Z
UID:3154-1772874000-1772874000@bauermdl.de
SUMMARY:Innenpolitische Sprechertagung
DESCRIPTION:
URL:https://bauermdl.de/event/innenpolitische-sprechertagung-2/
LOCATION:Berlin
CATEGORIES:Diverses
END:VEVENT
BEGIN:VEVENT
DTSTART;TZID=Europe/Berlin:20260306T090000
DTEND;TZID=Europe/Berlin:20260306T090000
DTSTAMP:20260419T160129
CREATED:20260126T145505Z
LAST-MODIFIED:20260126T145627Z
UID:3152-1772787600-1772787600@bauermdl.de
SUMMARY:Innenpolitische Sprechertagung
DESCRIPTION:
URL:https://bauermdl.de/event/innenpolitische-sprechertagung/
LOCATION:Berlin
CATEGORIES:Diverses
END:VEVENT
BEGIN:VEVENT
DTSTART;TZID=Europe/Berlin:20260215T140000
DTEND;TZID=Europe/Berlin:20260215T140000
DTSTAMP:20260419T160129
CREATED:20260126T145428Z
LAST-MODIFIED:20260126T145428Z
UID:3150-1771164000-1771164000@bauermdl.de
SUMMARY:Fastnachtsumzug Bürstadt
DESCRIPTION:
URL:https://bauermdl.de/event/fastnachtsumzug-buerstadt/
LOCATION:Bürstadt
CATEGORIES:Diverses
END:VEVENT
BEGIN:VEVENT
DTSTART;TZID=Europe/Berlin:20260207T191100
DTEND;TZID=Europe/Berlin:20260207T191100
DTSTAMP:20260419T160129
CREATED:20251022T121407Z
LAST-MODIFIED:20251022T121407Z
UID:3106-1770491460-1770491460@bauermdl.de
SUMMARY:SKK 50 Bürstadt – Fastnachtssitzung
DESCRIPTION:
URL:https://bauermdl.de/event/skk-50-buerstadt-fastnachtssitzung/
LOCATION:Bürstadt
CATEGORIES:Diverses
END:VEVENT
BEGIN:VEVENT
DTSTART;TZID=Europe/Berlin:20260202T190000
DTEND;TZID=Europe/Berlin:20260202T190000
DTSTAMP:20260419T160129
CREATED:20260126T145351Z
LAST-MODIFIED:20260126T145351Z
UID:3148-1770058800-1770058800@bauermdl.de
SUMMARY:Alfred Delp Messe
DESCRIPTION:
URL:https://bauermdl.de/event/alfred-delp-messe/
CATEGORIES:Diverses
END:VEVENT
BEGIN:VEVENT
DTSTART;TZID=Europe/Berlin:20260129T200000
DTEND;TZID=Europe/Berlin:20260129T200000
DTSTAMP:20260419T160129
CREATED:20260126T145303Z
LAST-MODIFIED:20260126T145303Z
UID:3146-1769716800-1769716800@bauermdl.de
SUMMARY:Gau-Turntag
DESCRIPTION:
URL:https://bauermdl.de/event/gau-turntag/
LOCATION:Bürstadt
CATEGORIES:Diverses
END:VEVENT
BEGIN:VEVENT
DTSTART;TZID=Europe/Berlin:20260128T180000
DTEND;TZID=Europe/Berlin:20260128T180000
DTSTAMP:20260419T160129
CREATED:20260126T145202Z
LAST-MODIFIED:20260126T145212Z
UID:3143-1769623200-1769623200@bauermdl.de
SUMMARY:Neujahrsempfang Ahmadiyya Gemeinde Heppenheim
DESCRIPTION:
URL:https://bauermdl.de/event/neujahrsempfang-ahmadiyya-gemeinde-heppenheim/
LOCATION:Heppenheim\, Schönbacher Str. 5\, Heppenheim
CATEGORIES:Diverses
END:VEVENT
BEGIN:VEVENT
DTSTART;TZID=Europe/Berlin:20260126T090000
DTEND;TZID=Europe/Berlin:20260126T090000
DTSTAMP:20260419T160129
CREATED:20260126T145126Z
LAST-MODIFIED:20260126T145126Z
UID:3141-1769418000-1769418000@bauermdl.de
SUMMARY:DialogP-Veranstaltung im Lessing Gymnasium Lampertheim
DESCRIPTION:
URL:https://bauermdl.de/event/dialogp-veranstaltung-im-lessing-gymnasium-lampertheim/
LOCATION:Lampertheim
CATEGORIES:Diverses
END:VEVENT
BEGIN:VEVENT
DTSTART;TZID=Europe/Berlin:20260124T140000
DTEND;TZID=Europe/Berlin:20260124T140000
DTSTAMP:20260419T160129
CREATED:20251022T121319Z
LAST-MODIFIED:20251022T121319Z
UID:3104-1769263200-1769263200@bauermdl.de
SUMMARY:Neujahrskaffee der Senioren Union
DESCRIPTION:
URL:https://bauermdl.de/event/neujahrskaffee-der-senioren-union/
LOCATION:Lorsch\, Marktplatz 1\, Lorsch\, 64653
CATEGORIES:Diverses
END:VEVENT
BEGIN:VEVENT
DTSTART;TZID=Europe/Berlin:20251129T180000
DTEND;TZID=Europe/Berlin:20251129T180000
DTSTAMP:20260419T160129
CREATED:20250326T130823Z
LAST-MODIFIED:20250326T130823Z
UID:2926-1764439200-1764439200@bauermdl.de
SUMMARY:Gottesdienst und Empfang des Ev. Dekanats zum neuen Kirchenjahr in Fürth
DESCRIPTION:
URL:https://bauermdl.de/event/gottesdienst-und-empfang-des-ev-dekanats-zum-neuen-kirchenjahr-in-fuerth/
CATEGORIES:Diverses
END:VEVENT
BEGIN:VEVENT
DTSTART;TZID=Europe/Berlin:20251128T190000
DTEND;TZID=Europe/Berlin:20251128T190000
DTSTAMP:20260419T160129
CREATED:20251022T121246Z
LAST-MODIFIED:20251022T121246Z
UID:3102-1764356400-1764356400@bauermdl.de
SUMMARY:Verabschiedung Bürgermeister Störmer/ Amtseinführung Alexander Scholl
DESCRIPTION:
URL:https://bauermdl.de/event/verabschiedung-buergermeister-stoermer-amtseinfuehrung-alexander-scholl/
LOCATION:Lampertheim
CATEGORIES:Diverses
END:VEVENT
BEGIN:VEVENT
DTSTART;TZID=Europe/Berlin:20251120T190000
DTEND;TZID=Europe/Berlin:20251120T190000
DTSTAMP:20260419T160129
CREATED:20251022T121207Z
LAST-MODIFIED:20251022T121207Z
UID:3100-1763665200-1763665200@bauermdl.de
SUMMARY:CDU Lampertheim JHV
DESCRIPTION:
URL:https://bauermdl.de/event/cdu-lampertheim-jhv/
CATEGORIES:Diverses
END:VEVENT
BEGIN:VEVENT
DTSTART;TZID=Europe/Berlin:20251118T190000
DTEND;TZID=Europe/Berlin:20251118T190000
DTSTAMP:20260419T160129
CREATED:20251022T121141Z
LAST-MODIFIED:20251022T121141Z
UID:3098-1763492400-1763492400@bauermdl.de
SUMMARY:Vorstand Lions Club
DESCRIPTION:
URL:https://bauermdl.de/event/vorstand-lions-club/
LOCATION:Bensheim
CATEGORIES:Diverses
END:VEVENT
BEGIN:VEVENT
DTSTART;TZID=Europe/Berlin:20251113T090000
DTEND;TZID=Europe/Berlin:20251113T090000
DTSTAMP:20260419T160129
CREATED:20250326T131825Z
LAST-MODIFIED:20250326T131825Z
UID:2950-1763024400-1763024400@bauermdl.de
SUMMARY:Plenum Hessischer Landtag Wiesbaden
DESCRIPTION:
URL:https://bauermdl.de/event/plenum-hessischer-landtag-wiesbaden_13-11-2025/
CATEGORIES:Diverses
END:VEVENT
BEGIN:VEVENT
DTSTART;TZID=Europe/Berlin:20251112T090000
DTEND;TZID=Europe/Berlin:20251112T090000
DTSTAMP:20260419T160129
CREATED:20250326T131744Z
LAST-MODIFIED:20250326T132113Z
UID:2948-1762938000-1762938000@bauermdl.de
SUMMARY:Plenum Hessischer Landtag Wiesbaden
DESCRIPTION:
URL:https://bauermdl.de/event/plenum-hessischer-landtag-wiesbaden_12-11-2025/
CATEGORIES:Diverses
END:VEVENT
BEGIN:VEVENT
DTSTART;TZID=Europe/Berlin:20251111T140000
DTEND;TZID=Europe/Berlin:20251111T140000
DTSTAMP:20260419T160129
CREATED:20250326T131656Z
LAST-MODIFIED:20250326T131656Z
UID:2946-1762869600-1762869600@bauermdl.de
SUMMARY:Plenum Hessischer Landtag Wiesbaden
DESCRIPTION:
URL:https://bauermdl.de/event/plenum-hessischer-landtag-wiesbaden_11-11-2025/
CATEGORIES:Diverses
END:VEVENT
BEGIN:VEVENT
DTSTART;TZID=Europe/Berlin:20251110T190000
DTEND;TZID=Europe/Berlin:20251110T190000
DTSTAMP:20260419T160129
CREATED:20251022T121115Z
LAST-MODIFIED:20251022T121115Z
UID:3096-1762801200-1762801200@bauermdl.de
SUMMARY:CDU Bürstadt Mitgliederversammlung
DESCRIPTION:
URL:https://bauermdl.de/event/cdu-buerstadt-mitgliederversammlung/
LOCATION:Bürstadt
CATEGORIES:Diverses
END:VEVENT
BEGIN:VEVENT
DTSTART;TZID=Europe/Berlin:20251108T100000
DTEND;TZID=Europe/Berlin:20251108T100000
DTSTAMP:20260419T160129
CREATED:20251022T121001Z
LAST-MODIFIED:20251022T121006Z
UID:3094-1762596000-1762596000@bauermdl.de
SUMMARY:Hauptamtlichen-Runde
DESCRIPTION:
URL:https://bauermdl.de/event/hauptamtlichen-runde/
CATEGORIES:Diverses
END:VEVENT
BEGIN:VEVENT
DTSTART;TZID=Europe/Berlin:20251106T160000
DTEND;TZID=Europe/Berlin:20251106T160000
DTSTAMP:20260419T160129
CREATED:20251022T120933Z
LAST-MODIFIED:20251022T120937Z
UID:3091-1762444800-1762444800@bauermdl.de
SUMMARY:Wirtschaftsrat: Netzwerk Mobilität & Logistik
DESCRIPTION:
URL:https://bauermdl.de/event/wirtschaftsrat-netzwerk-mobilitaet-logistik/
LOCATION:Bensheim
CATEGORIES:Diverses
END:VEVENT
BEGIN:VEVENT
DTSTART;TZID=Europe/Berlin:20251105T190000
DTEND;TZID=Europe/Berlin:20251105T190000
DTSTAMP:20260419T160129
CREATED:20251022T120903Z
LAST-MODIFIED:20251022T120903Z
UID:3088-1762369200-1762369200@bauermdl.de
SUMMARY:Festakt 80 Jahre CDU Hessen
DESCRIPTION:
URL:https://bauermdl.de/event/festakt-80-jahre-cdu-hessen/
LOCATION:Frankfurt
CATEGORIES:Diverses
END:VEVENT
BEGIN:VEVENT
DTSTART;TZID=Europe/Berlin:20250913T100000
DTEND;TZID=Europe/Berlin:20250913T100000
DTSTAMP:20260419T160129
CREATED:20250326T130751Z
LAST-MODIFIED:20250326T130751Z
UID:2924-1757757600-1757757600@bauermdl.de
SUMMARY:Kreisparteitag
DESCRIPTION:
URL:https://bauermdl.de/event/kreisparteitag/
CATEGORIES:Diverses
END:VEVENT
BEGIN:VEVENT
DTSTART;TZID=Europe/Berlin:20250910T090000
DTEND;TZID=Europe/Berlin:20250910T090000
DTSTAMP:20260419T160129
CREATED:20250326T131604Z
LAST-MODIFIED:20250326T131609Z
UID:2944-1757494800-1757494800@bauermdl.de
SUMMARY:Plenum Hessischer Landtag Wiesbaden
DESCRIPTION:
URL:https://bauermdl.de/event/plenum-hessischer-landtag-wiesbaden_10-09-2025/
CATEGORIES:Diverses
END:VEVENT
BEGIN:VEVENT
DTSTART;TZID=Europe/Berlin:20250909T140000
DTEND;TZID=Europe/Berlin:20250909T140000
DTSTAMP:20260419T160129
CREATED:20250326T131524Z
LAST-MODIFIED:20250326T131528Z
UID:2942-1757426400-1757426400@bauermdl.de
SUMMARY:Plenum Hessischer Landtag Wiesbaden
DESCRIPTION:
URL:https://bauermdl.de/event/plenum-hessischer-landtag-wiesbaden_09-09-2025/
CATEGORIES:Diverses
END:VEVENT
BEGIN:VEVENT
DTSTART;TZID=Europe/Berlin:20250904T150000
DTEND;TZID=Europe/Berlin:20250904T160000
DTSTAMP:20260419T160129
CREATED:20250702T140604Z
LAST-MODIFIED:20250702T140604Z
UID:3009-1756998000-1757001600@bauermdl.de
SUMMARY:„Horschemol“ in Viernheim: Politik im Dialog mit Alexander Bauer
DESCRIPTION:Der Bergsträßer Landtagsabgeordnete Alexander Bauer (CDU) ist wieder auf Sommertor durch seinen Wahlkreis. Unter dem Slogan „Horschemol“ (= höre einmal) lädt der bekennende Mundartfan interessierte Bürgerinnen und Bürger zu einer offenen Sprechstunde ein. \nIm Mittelpunkt dieser Treffen steht der direkte Austausch: Bürgerinnen und Bürger haben die Möglichkeit\, ihre Anliegen persönlich mit ihrem Abgeordneten zu besprechen\, Fragen zu aktuellen politischen Themen zu stellen und Einblicke in die parlamentarische Arbeit zu erhalten. „Ich bin in meinem Wahlkreis präsent und ansprechbar“\, betont Alexander Bauer. Zur besseren Planbarkeit wird um eine vorherige Anmeldung per E-Mail an kontakt@BauerMdL.de gebeten. \nDonnerstag 04.09.2025\, 15-16 Uhr\, VIERNHEIM: Café Rall (Schulstr. 4)
URL:https://bauermdl.de/event/horschemol-in-viernheim_040925/
LOCATION:Viernheim
CATEGORIES:Diverses
END:VEVENT
BEGIN:VEVENT
DTSTART;TZID=Europe/Berlin:20250730T190000
DTEND;TZID=Europe/Berlin:20250730T200000
DTSTAMP:20260419T160129
CREATED:20250702T140408Z
LAST-MODIFIED:20250702T140911Z
UID:3007-1753902000-1753905600@bauermdl.de
SUMMARY:„Horschemol“ in Biblis: Politik im Dialog mit Alexander Bauer
DESCRIPTION:Der Bergsträßer Landtagsabgeordnete Alexander Bauer (CDU) ist wieder auf Sommertor durch seinen Wahlkreis. Unter dem Slogan „Horschemol“ (= höre einmal) lädt der bekennende Mundartfan interessierte Bürgerinnen und Bürger zu einer offenen Sprechstunde ein. \nIm Mittelpunkt dieser Treffen steht der direkte Austausch: Bürgerinnen und Bürger haben die Möglichkeit\, ihre Anliegen persönlich mit ihrem Abgeordneten zu besprechen\, Fragen zu aktuellen politischen Themen zu stellen und Einblicke in die parlamentarische Arbeit zu erhalten. „Ich bin in meinem Wahlkreis präsent und ansprechbar“\, betont Alexander Bauer. Zur besseren Planbarkeit wird um eine vorherige Anmeldung per E-Mail an kontakt@BauerMdL.de gebeten. \nMittwoch 30.07.2025\, 19-20 Uhr\, BIBLIS\, Café-Bar (Darmstädter Str. 79)
URL:https://bauermdl.de/event/horschemol-in-biblis-politik-im-dialog-mit-alexander-bauer/
LOCATION:Biblis
CATEGORIES:Diverses
END:VEVENT
BEGIN:VEVENT
DTSTART;TZID=Europe/Berlin:20250723T110000
DTEND;TZID=Europe/Berlin:20250723T120000
DTSTAMP:20260419T160129
CREATED:20250702T140311Z
LAST-MODIFIED:20250702T140840Z
UID:3005-1753268400-1753272000@bauermdl.de
SUMMARY:„Horschemol“ in Lorsch: Politik im Dialog mit Alexander Bauer
DESCRIPTION:Der Bergsträßer Landtagsabgeordnete Alexander Bauer (CDU) ist wieder auf Sommertor durch seinen Wahlkreis. Unter dem Slogan „Horschemol“ (= höre einmal) lädt der bekennende Mundartfan interessierte Bürgerinnen und Bürger zu einer offenen Sprechstunde ein. \nIm Mittelpunkt dieser Treffen steht der direkte Austausch: Bürgerinnen und Bürger haben die Möglichkeit\, ihre Anliegen persönlich mit ihrem Abgeordneten zu besprechen\, Fragen zu aktuellen politischen Themen zu stellen und Einblicke in die parlamentarische Arbeit zu erhalten. „Ich bin in meinem Wahlkreis präsent und ansprechbar“\, betont Alexander Bauer. Zur besseren Planbarkeit wird um eine vorherige Anmeldung per E-Mail an kontakt@BauerMdL.de gebeten. \nMittwoch 23.07.2025\, 11-12 Uhr\, LORSCH: Back- und Brauhaus Drayß (Bahnhofstr. 1)
URL:https://bauermdl.de/event/horschemol-in-lorsch-230725/
LOCATION:Lorsch\, Marktplatz 1\, Lorsch\, 64653
CATEGORIES:Diverses
END:VEVENT
BEGIN:VEVENT
DTSTART;TZID=Europe/Berlin:20250718T130000
DTEND;TZID=Europe/Berlin:20250718T140000
DTSTAMP:20260419T160129
CREATED:20250702T135959Z
LAST-MODIFIED:20250702T140819Z
UID:3000-1752843600-1752847200@bauermdl.de
SUMMARY:„Horschemol“ in Lampertheim: Politik im Dialog mit Alexander Bauer
DESCRIPTION:Der Bergsträßer Landtagsabgeordnete Alexander Bauer (CDU) ist wieder auf Sommertor durch seinen Wahlkreis. Unter dem Slogan „Horschemol“ (= höre einmal) lädt der bekennende Mundartfan interessierte Bürgerinnen und Bürger zu einer offenen Sprechstunde ein. \nIm Mittelpunkt dieser Treffen steht der direkte Austausch: Bürgerinnen und Bürger haben die Möglichkeit\, ihre Anliegen persönlich mit ihrem Abgeordneten zu besprechen\, Fragen zu aktuellen politischen Themen zu stellen und Einblicke in die parlamentarische Arbeit zu erhalten. „Ich bin in meinem Wahlkreis präsent und ansprechbar“\, betont Alexander Bauer. Zur besseren Planbarkeit wird um eine vorherige Anmeldung per E-Mail an kontakt@BauerMdL.de gebeten. \nFreitag 18.07.2025\, 13-14 Uhr\, LAMPERTHEIM: Bauernladen Steinmetzt (Römerstr. 52)\n 
URL:https://bauermdl.de/event/horschemol-in-lampertheim-180725/
LOCATION:Lampertheim
CATEGORIES:Diverses
END:VEVENT
BEGIN:VEVENT
DTSTART;TZID=Europe/Berlin:20250714T200000
DTEND;TZID=Europe/Berlin:20250714T210000
DTSTAMP:20260419T160129
CREATED:20250702T135749Z
LAST-MODIFIED:20250702T140803Z
UID:2998-1752523200-1752526800@bauermdl.de
SUMMARY:„Horschemol“ in Bürstadt – Politik im Dialog mit Alexander Bauer
DESCRIPTION:Der Bergsträßer Landtagsabgeordnete Alexander Bauer (CDU) ist wieder auf Sommertor durch seinen Wahlkreis. Unter dem Slogan „Horschemol“ (= höre einmal) lädt der bekennende Mundartfan interessierte Bürgerinnen und Bürger zu einer offenen Sprechstunde ein. \nIm Mittelpunkt dieser Treffen steht der direkte Austausch: Bürgerinnen und Bürger haben die Möglichkeit\, ihre Anliegen persönlich mit ihrem Abgeordneten zu besprechen\, Fragen zu aktuellen politischen Themen zu stellen und Einblicke in die parlamentarische Arbeit zu erhalten. „Ich bin in meinem Wahlkreis präsent und ansprechbar“\, betont Alexander Bauer. Zur besseren Planbarkeit wird um eine vorherige Anmeldung per E-Mail an kontakt@BauerMdL.de gebeten. \nMontag 14.07.2025\, 20-21 Uhr\, BÜRSTADT: Biergarten „Zum Schützenhaus“ (Außerhalb 48a)\n 
URL:https://bauermdl.de/event/horschemol-in-buerstadt_140725/
LOCATION:Bürstadt
CATEGORIES:Diverses
END:VEVENT
BEGIN:VEVENT
DTSTART;TZID=Europe/Berlin:20250707T110000
DTEND;TZID=Europe/Berlin:20250707T120000
DTSTAMP:20260419T160129
CREATED:20250702T135509Z
LAST-MODIFIED:20250702T140716Z
UID:2995-1751886000-1751889600@bauermdl.de
SUMMARY:„Horschemol“ in Bürstadt – Politik im Dialog mit Alexander Bauer
DESCRIPTION:Der Bergsträßer Landtagsabgeordnete Alexander Bauer (CDU) ist wieder auf Sommertor durch seinen Wahlkreis. Unter dem Slogan „Horschemol“ (= höre einmal) lädt der bekennende Mundartfan interessierte Bürgerinnen und Bürger zu einer offenen Sprechstunde ein. Den Auftakt macht seine „Zuhör-Tour“ am Montag\, den 7. Juli\, von 11-12 Uhr\, im Back – und Brauhaus Drayß auf dem Marktplatz in Bürstadt. \nIm Mittelpunkt dieser Treffen steht der direkte Austausch: Bürgerinnen und Bürger haben die Möglichkeit\, ihre Anliegen persönlich mit ihrem Abgeordneten zu besprechen\, Fragen zu aktuellen politischen Themen zu stellen und Einblicke in die parlamentarische Arbeit zu erhalten. „Ich bin in meinem Wahlkreis präsent und ansprechbar“\, betont Alexander Bauer. Zur besseren Planbarkeit wird um eine vorherige Anmeldung per E-Mail an kontakt@BauerMdL.de gebeten.
URL:https://bauermdl.de/event/horschemol-politik-im-dialog_070725/
LOCATION:Bürstadt
CATEGORIES:Diverses
END:VEVENT
BEGIN:VEVENT
DTSTART;TZID=Europe/Berlin:20250704T150000
DTEND;TZID=Europe/Berlin:20250704T150000
DTSTAMP:20260419T160129
CREATED:20250326T130903Z
LAST-MODIFIED:20250326T130903Z
UID:2928-1751641200-1751641200@bauermdl.de
SUMMARY:Landesvorstand CDU Hessen Wiesbaden
DESCRIPTION:
URL:https://bauermdl.de/event/landesvorstand-cdu-hessen-wiesbaden/
CATEGORIES:Diverses
END:VEVENT
END:VCALENDAR